BEGIN:VCALENDAR
VERSION:2.0
PRODID:-//InvisionCommunity Events 5.0.18//EN
METHOD:PUBLISH
CALSCALE:GREGORIAN
REFRESH-INTERVAL:PT15M
X-PUBLISHED-TTL:PT15M
X-WR-CALNAME:Black Artist of Tumblr Calendar
NAME:Black Artist of Tumblr Calendar
BEGIN:VTIMEZONE
TZID:Europe/London
TZURL:https://tzurl.org/zoneinfo/Europe/London
X-LIC-LOCATION:Europe/London
BEGIN:DAYLIGHT
TZOFFSETFROM:+0000
TZOFFSETTO:+0100
TZNAME:BST
DTSTART:20260329T020000Z
RRULE:FREQ=YEARLY;BYMONTH=3;BYDAY=-1SU
END:DAYLIGHT
BEGIN:STANDARD
TZOFFSETFROM:+0100
TZOFFSETTO:+0000
TZNAME:GMT
DTSTART:20261025T020000Z
RRULE:FREQ=YEARLY;BYMONTH=10;BYDAY=-1SU
END:STANDARD
END:VTIMEZONE
BEGIN:VEVENT
SUMMARY:Inspired by Doja cat’s song - Ninetenh$e
DTSTAMP:20260409T230935Z
SEQUENCE:0
UID:716-8-c3fe8195a3dde498d013e477e2142422@aalbc.com
ORGANIZER;CN="richardmurray":noreply@aalbc.com
DESCRIPTION:\n	Inspired by Doja cat’s song - Ninetenh$e\n\n	from @wert
	ys-art \n\n	in blackartistoftumblr\n\n	https://www.tumblr.com/communities
	/black-artist-on-tjambler/post/812824821179318272?source=share\n\n	#blacka
	rtistoftumblr #wertys-art \n\n\n\n	 \n\n
DTSTART:20260402T224900Z
RRULE:FREQ=YEARLY;INTERVAL=1
END:VEVENT
BEGIN:VEVENT
SUMMARY:Tapas why
DTSTAMP:20260409T230838Z
SEQUENCE:0
UID:715-8-c3fe8195a3dde498d013e477e2142422@aalbc.com
ORGANIZER;CN="richardmurray":noreply@aalbc.com
DESCRIPTION:\n	Tapas why\n\n	from @lutea-arts \n\n	in blackartistoftumb
	lr\n\n	https://www.tumblr.com/communities/black-artist-on-tjambler/post/81
	2096181725429760?source=share\n\n	#blackartistoftumblr #lutea-arts \n\n\n
	\n	 \n\n
DTSTART:20260325T214700Z
RRULE:FREQ=YEARLY;INTERVAL=1
END:VEVENT
BEGIN:VEVENT
SUMMARY:Hello!\, names Mcneveroli\, you can call me Mc!
DTSTAMP:20260409T230704Z
SEQUENCE:0
UID:714-8-c3fe8195a3dde498d013e477e2142422@aalbc.com
ORGANIZER;CN="richardmurray":noreply@aalbc.com
DESCRIPTION:\n	Hello!\, names Mcneveroli\, you can call me Mc!\n\n	from 
	@mcneveroli \n\n	in blackartistoftumblr\n\n	https://www.tumblr.com/commun
	ities/black-artist-on-tjambler/post/811950895186198528/hello-names-mcnever
	oli-you-can-call-me-mc-and?source=share\n\n	#blackartistoftumblr #mcnevero
	li \n\n\n\n	 \n\n
DTSTART:20260324T071800Z
RRULE:FREQ=YEARLY;INTERVAL=1
END:VEVENT
BEGIN:VEVENT
SUMMARY:Cozmik Art 2015
DTSTAMP:20260409T230609Z
SEQUENCE:0
UID:713-8-c3fe8195a3dde498d013e477e2142422@aalbc.com
ORGANIZER;CN="richardmurray":noreply@aalbc.com
DESCRIPTION:\n	Cozmik Art 2015\n\n	from @cozmikbeats \n\n	in blackartis
	toftumblr\n\n	https://www.tumblr.com/communities/black-artist-on-tjambler/
	post/811700729944358912/cozmik-art-2015-oldie-but-goodies-cozmikbeats?sour
	ce=share\n\n	#blackartistoftumblr #cozmikbeats \n\n\n\n	 \n\n
DTSTART:20260321T130200Z
RRULE:FREQ=YEARLY;INTERVAL=1
END:VEVENT
BEGIN:VEVENT
SUMMARY:\"Hot For Teacher\"
DTSTAMP:20260409T230521Z
SEQUENCE:0
UID:712-8-c3fe8195a3dde498d013e477e2142422@aalbc.com
ORGANIZER;CN="richardmurray":noreply@aalbc.com
DESCRIPTION:\n	\"Hot For Teacher\"\n\n	from @noway78 \n\n	in blackartis
	toftumblr\n\n	https://www.tumblr.com/communities/black-artist-on-tjambler/
	post/811649619010387968?source=share\n\n	#blackartistoftumblr #noway78 \n
	\n\n\n	 \n\n
DTSTART:20260320T232900Z
RRULE:FREQ=YEARLY;INTERVAL=1
END:VEVENT
BEGIN:VEVENT
SUMMARY:Val design update ! I
DTSTAMP:20260409T230430Z
SEQUENCE:0
UID:711-8-c3fe8195a3dde498d013e477e2142422@aalbc.com
ORGANIZER;CN="richardmurray":noreply@aalbc.com
DESCRIPTION:\n	Val design update ! I\n\n	from @servaaal51 \n\n	in black
	artistoftumblr\n\n	https://www.tumblr.com/communities/black-artist-on-tjam
	bler/post/810854442425630720/what-do-we-think-new-is-on-the-right?source=s
	hare\n\n	#blackartistoftumblr #servaaal51 \n\n\n\n	 \n\n
DTSTART:20260312T045000Z
RRULE:FREQ=YEARLY;INTERVAL=1
END:VEVENT
BEGIN:VEVENT
SUMMARY:Character sprite art for a game team I'm a part of. We don't
	 have a name yet we're still working on it.
DTSTAMP:20260409T230349Z
SEQUENCE:0
UID:710-8-c3fe8195a3dde498d013e477e2142422@aalbc.com
ORGANIZER;CN="richardmurray":noreply@aalbc.com
DESCRIPTION:\n	Character sprite art for a game team I'm a part of. We do
	n't have a name yet we're still working on it.\n\n	from @jollofmunchrr \n
	\n	in blackartistoftumblr\n\n	https://www.tumblr.com/communities/black-art
	ist-on-tjambler/post/812632483652878336?source=share\n\n	#blackartistoftum
	blr #jollofmunchrr \n\n\n\n	 \n\n
DTSTART:20260331T195200Z
RRULE:FREQ=YEARLY;INTERVAL=1
END:VEVENT
BEGIN:VEVENT
SUMMARY:java
DTSTAMP:20260409T225433Z
SEQUENCE:0
UID:709-8-c3fe8195a3dde498d013e477e2142422@aalbc.com
ORGANIZER;CN="richardmurray":noreply@aalbc.com
DESCRIPTION:\n	java\n\n	from @rainbowmedleyarts \n\n	in blackartistoftu
	mblr\n\n	https://www.tumblr.com/communities/black-artist-on-tjambler/post/
	812246915211214848/java?source=share\n\n	#blackartistoftumblr #rainbowmedl
	eyarts \n\n\n\n	 \n\n
DTSTART:20260327T134300Z
RRULE:FREQ=YEARLY;INTERVAL=1
END:VEVENT
BEGIN:VEVENT
SUMMARY:an old newspaper comic i did awhile back called \"Les Sex\"
DTSTAMP:20260409T225250Z
SEQUENCE:0
UID:708-8-c3fe8195a3dde498d013e477e2142422@aalbc.com
ORGANIZER;CN="richardmurray":noreply@aalbc.com
DESCRIPTION:\n	an old newspaper comic i did awhile back called \"Les Sex
	\"\n\n	from @qtcomicsblog \n\n	in blackartistoftumblr\n\n	https://www.tum
	blr.com/communities/black-artist-on-tjambler/post/810269140766097408/an-ol
	d-newspaper-comic-i-did-awhile-back-called?source=share\n\n	#blackartistof
	tumblr #qtcomicsblog \n\n\n\n	 \n\n
DTSTART:20260305T174700Z
RRULE:FREQ=YEARLY;INTERVAL=1
END:VEVENT
BEGIN:VEVENT
SUMMARY:Made a book cover for a story im writing plan on doing a red
	o sometime in the future 
DTSTAMP:20260409T225107Z
SEQUENCE:0
UID:707-8-c3fe8195a3dde498d013e477e2142422@aalbc.com
ORGANIZER;CN="richardmurray":noreply@aalbc.com
DESCRIPTION:\n	Made a book cover for a story im writing plan on doing a 
	redo sometime in the future \n\n	from @peachyblkdemonslayer \n\n	in blac
	kartistoftumblr\n\n	https://www.tumblr.com/communities/black-artist-on-tja
	mbler/post/811757391434629120/made-a-book-cover-for-a-story-im-writing-pla
	n-on?source=share\n\n	#blackartistoftumblr #peachyblkdemonslayer \n\n\n\n
		 \n\n
DTSTART:20260322T040200Z
RRULE:FREQ=YEARLY;INTERVAL=1
END:VEVENT
BEGIN:VEVENT
SUMMARY:CULTURES OF THE DAY: cape verde 
DTSTAMP:20260409T224914Z
SEQUENCE:0
UID:706-8-c3fe8195a3dde498d013e477e2142422@aalbc.com
ORGANIZER;CN="richardmurray":noreply@aalbc.com
DESCRIPTION:\n	CULTURES OF THE DAY: cape verde \n\n	from @banzaboiieats
	kilishi\n\n	in blackartistoftumblr\n\n	https://www.tumblr.com/communities/
	black-artist-on-tjambler/post/811603146690510848?source=share\n\n	#blackar
	tistoftumblr #banzaboiieatskilishi\n\n\n\n	 \n\n
DTSTART:20260320T111100Z
RRULE:FREQ=YEARLY;INTERVAL=1
END:VEVENT
BEGIN:VEVENT
SUMMARY:TRIBE OF THE DAY : Igbomina
DTSTAMP:20260409T224538Z
SEQUENCE:0
UID:705-8-c3fe8195a3dde498d013e477e2142422@aalbc.com
ORGANIZER;CN="richardmurray":noreply@aalbc.com
DESCRIPTION:\n	TRIBE OF THE DAY : Igbomina\n\n	from @banzaboiieatskilish
	i\n\n	in blackartistoftumblr\n\n	https://www.tumblr.com/communities/black-
	artist-on-tjambler/post/813423551385403392?source=share\n\n	#blackartistof
	tumblr #banzaboiieatskilishi\n\n\n\n	 \n\n
DTSTART:20260409T132500Z
RRULE:FREQ=YEARLY;INTERVAL=1
END:VEVENT
BEGIN:VEVENT
SUMMARY:  Let the fun begin!
DTSTAMP:20260409T224359Z
SEQUENCE:0
UID:704-8-c3fe8195a3dde498d013e477e2142422@aalbc.com
ORGANIZER;CN="richardmurray":noreply@aalbc.com
DESCRIPTION:\n	  Let the fun begin!\n\n	from @mcneveroli\n\n	in blackar
	tistoftumblr\n\n	https://www.tumblr.com/communities/black-artist-on-tjambl
	er/post/813361338302775297/let-the-fun-begin?source=share\n\n	#blackartist
	oftumblr #mcneveroli\n\n\n\n	 \n\n
DTSTART:20260408T205600Z
RRULE:FREQ=YEARLY;INTERVAL=1
END:VEVENT
BEGIN:VEVENT
SUMMARY:TRIBE OF THE DAY : atyap
DTSTAMP:20260409T224216Z
SEQUENCE:0
UID:703-8-c3fe8195a3dde498d013e477e2142422@aalbc.com
ORGANIZER;CN="richardmurray":noreply@aalbc.com
DESCRIPTION:\n	TRIBE OF THE DAY : atyap\n\n	from @banzaboiieatskilishi\n
	\n	in blackartistoftumblr\n\n	https://www.tumblr.com/communities/black-art
	ist-on-tjambler/post/813333880191008768?source=share\n\n	#blackartistoftum
	blr #banzaboiieatskilishi\n\n\n\n	 \n\n
DTSTART:20260408T134000Z
RRULE:FREQ=YEARLY;INTERVAL=1
END:VEVENT
BEGIN:VEVENT
SUMMARY:ayo's moi moi
DTSTAMP:20260409T224059Z
SEQUENCE:0
UID:702-8-c3fe8195a3dde498d013e477e2142422@aalbc.com
ORGANIZER;CN="richardmurray":noreply@aalbc.com
DESCRIPTION:\n	ayo's moi moi\n\n	from @banzaboiieatskilishi\n\n	in black
	artistoftumblr\n\n	https://www.tumblr.com/communities/black-artist-on-tjam
	bler/post/813244344790335488?source=share\n\n	#blackartistoftumblr #banzab
	oiieatskilishi\n\n\n\n	 \n\n
DTSTART:20260407T135700Z
RRULE:FREQ=YEARLY;INTERVAL=1
END:VEVENT
BEGIN:VEVENT
SUMMARY:Life lately been well less than ideal.
DTSTAMP:20260409T203543Z
SEQUENCE:0
UID:700-8-c3fe8195a3dde498d013e477e2142422@aalbc.com
ORGANIZER;CN="richardmurray":noreply@aalbc.com
DESCRIPTION:\n	Life lately been well less than ideal. \n\n	from @noway7
	8\n\n	in blackartistoftumblr\n\n	https://www.tumblr.com/communities/black-
	artist-on-tjambler/post/813169091677421568?source=share\n\n	#blackartistof
	tumblr #noway78\n\n\n\n	 \n\n
DTSTART:20260406T040100Z
RRULE:FREQ=YEARLY;INTERVAL=1
END:VEVENT
END:VCALENDAR
