BEGIN:VCALENDAR
VERSION:2.0
PRODID:-//InvisionCommunity Events 5.0.18//EN
METHOD:PUBLISH
CALSCALE:GREGORIAN
REFRESH-INTERVAL:PT15M
X-PUBLISHED-TTL:PT15M
X-WR-CALNAME:RMWorkCalendar
NAME:RMWorkCalendar
BEGIN:VTIMEZONE
TZID:Europe/London
TZURL:https://tzurl.org/zoneinfo/Europe/London
X-LIC-LOCATION:Europe/London
BEGIN:DAYLIGHT
TZOFFSETFROM:+0000
TZOFFSETTO:+0100
TZNAME:BST
DTSTART:20250330T020000Z
RRULE:FREQ=YEARLY;BYMONTH=3;BYDAY=-1SU
END:DAYLIGHT
BEGIN:STANDARD
TZOFFSETFROM:+0100
TZOFFSETTO:+0000
TZNAME:GMT
DTSTART:20251026T020000Z
RRULE:FREQ=YEARLY;BYMONTH=10;BYDAY=-1SU
END:STANDARD
END:VTIMEZONE
BEGIN:VEVENT
SUMMARY:Synthographers Conversations 2024 - 01/29/2024
DTSTAMP:20250129T232456Z
SEQUENCE:0
UID:168-5-c3fe8195a3dde498d013e477e2142422@aalbc.com
ORGANIZER;CN="richardmurray":noreply@aalbc.com
DESCRIPTION:\n	Synthographers Conversations 2024 - 01/29/2024\n\n\n\n	fo
	r my tip jar followers\, a set of over 30 ai art instances fully explained
	\n\n	https://www.deviantart.com/hddeviant/art/Synthography-Conversations-2
	024-1152950129\n\n\n\n	IN AMENDMENT\n\n\n\n	Shanghai Joe from accented cin
	ema\n\n	MY COMMENT\n\n	 I have never seen this:) or heard of this. Love ho
	w you found an instance of toad style. you are having great fun\, that guy
	 tricky does look like tom cruise. YOu missed a berry gordy last dragon re
	ference option.  Shanghai Joe could be the teacher or the teacher of Sho 
	nuff\, maybe the five fingers of death guy was shonuff's teacher\,the shog
	un of Harlem. 4:44 i say brilliant\, rare to see a character not white eur
	opean be a criminal while so openly self hating\, they usually have a fina
	ncial or some other cover story. 7:22 Italian cinema masters doing well wi
	th little money\, thanks for the history of Cinecitta. Question\, why the 
	need for the internet\, in the 1970s\, libraries/books + phones meant they
	 could had called\, could had contacted someone in the usa. I argue it was
	n't technology but money. Yes\, just scrolling the internet today is cheap
	er than making a phone call and setting up a meeting but I don't think it 
	is that large a gap. Yeah\, distrusting the stranger is gaining ground in 
	media in the usa/western europe. Is trusting the stranger growing in chine
	se or indian cinema? \n\n	VIDEO\n\n	https://www.youtube.com/watch?v=M_3kk
	5BVPqE\n\n\n\n	\n\n\n\n	 \n\n
DTSTART;VALUE=DATE:20250129
RRULE:FREQ=YEARLY;INTERVAL=1
END:VEVENT
END:VCALENDAR
