BEGIN:VCALENDAR
VERSION:2.0
PRODID:-//InvisionCommunity Events 5.0.18//EN
METHOD:PUBLISH
CALSCALE:GREGORIAN
REFRESH-INTERVAL:PT15M
X-PUBLISHED-TTL:PT15M
X-WR-CALNAME:RMWorkCalendar
NAME:RMWorkCalendar
BEGIN:VTIMEZONE
TZID:Europe/London
TZURL:https://tzurl.org/zoneinfo/Europe/London
X-LIC-LOCATION:Europe/London
BEGIN:DAYLIGHT
TZOFFSETFROM:+0000
TZOFFSETTO:+0100
TZNAME:BST
DTSTART:20250330T020000Z
RRULE:FREQ=YEARLY;BYMONTH=3;BYDAY=-1SU
END:DAYLIGHT
BEGIN:STANDARD
TZOFFSETFROM:+0100
TZOFFSETTO:+0000
TZNAME:GMT
DTSTART:20251026T020000Z
RRULE:FREQ=YEARLY;BYMONTH=10;BYDAY=-1SU
END:STANDARD
END:VTIMEZONE
BEGIN:VEVENT
SUMMARY:CENTO Series episode 105
DTSTAMP:20250416T142850Z
SEQUENCE:0
UID:244-5-c3fe8195a3dde498d013e477e2142422@aalbc.com
ORGANIZER;CN="richardmurray":noreply@aalbc.com
DESCRIPTION:\n	CENTO Series episode 105\n\n\n\n	\n\n	I didn’t ask to f
	eel this.\n\n	Leave when I am sick like this\,\n\n	These aren’t my ears\
	,\n\n	Cuts aren’t the blades I wish to please.\n\n	Lock the door and tak
	e the keys.\n\n	https://www.deviantart.com/thefulkrum/art/Midnight-Lily-10
	8505689\n\n\n\n	 \n\n\n\n	I’ll awake from my dream now\,\n\n	to make it
	 all come true Dear.\n\n\n\n	The dreams haven’t reached you yet\,\n\n	wr
	apped you in their safety yet.\n\n	You haven’t swum in oceans\,\n\n	hill
	s of warm grass yet.\n\n	https://www.deviantart.com/thefulkrum/art/Hold-my
	-Hand-109755461\n\n\n\n	 \n\n\n\n	 \n\n\n\n	IN AMENDMENT\n\n\n\n	Cento L
	ist - enjoy the poetry\n\n	https://aalbc.com/tc/search/?q=cento&amp\;quick
	=1&amp\;type=calendar_event&amp\;nodes=5&amp\;updated_after=any&amp\;sortb
	y=newest\n\n	Enjoy the 2023 Centos\n\n	https://www.kobo.com/us/en/ebook/ri
	chard-murray-centos-2023\n\n\n\n	 \n\n\n\n	\n\n\n\n	Epub link\n\n	https:/
	/www.kobo.com/us/en/ebook/poetry-or-more-1\n\n	Epub series \n\n	https://w
	ww.kobo.com/us/en/series/richard-murray-short-story-collection\n\n\n\n	\n\
	n\n\n	Audiobook link\n\n	https://www.kobo.com/us/en/audiobook/the-last-fla
	il\n\n	Audiobook series \n\n	https://www.kobo.com/us/en/series/richard-mu
	rray-tip-jar-audios\n\n\n\n	 \n\n\n\n	If you really want to follow what I
	 am doing please subscribe to my calendars. I wish I would had used the ca
	lendar tool with all my work from the beginning. Like alot of the internet
	 I didn't really think on it when I started\, like with many I just starte
	d using. Why do we create linearly when a lot of times\, what I have to sa
	y is repeats from yesteryear. \n\n	Richard Murray's Work Calendar\n\n	web
	cal://aalbc.com/tc/events/5-rmworkcalendar/download/?member=6477&amp\;key=
	9b0dbd4939faea9d5408174d9601d576\n\n	Richard Murray's Community Calendar\n
	\n	webcal://aalbc.com/tc/events/7-rmcommunitycalendar/download/?member=647
	7&amp\;key=9b0dbd4939faea9d5408174d9601d576\n\n
DTSTART;VALUE=DATE:20250524
RRULE:FREQ=YEARLY;INTERVAL=1
END:VEVENT
END:VCALENDAR
