BEGIN:VCALENDAR
VERSION:2.0
PRODID:-//InvisionCommunity Events 5.0.18//EN
METHOD:PUBLISH
CALSCALE:GREGORIAN
REFRESH-INTERVAL:PT15M
X-PUBLISHED-TTL:PT15M
X-WR-CALNAME:RMWorkCalendar
NAME:RMWorkCalendar
BEGIN:VTIMEZONE
TZID:Europe/London
TZURL:https://tzurl.org/zoneinfo/Europe/London
X-LIC-LOCATION:Europe/London
BEGIN:DAYLIGHT
TZOFFSETFROM:+0000
TZOFFSETTO:+0100
TZNAME:BST
DTSTART:20250330T020000Z
RRULE:FREQ=YEARLY;BYMONTH=3;BYDAY=-1SU
END:DAYLIGHT
BEGIN:STANDARD
TZOFFSETFROM:+0100
TZOFFSETTO:+0000
TZNAME:GMT
DTSTART:20251026T020000Z
RRULE:FREQ=YEARLY;BYMONTH=10;BYDAY=-1SU
END:STANDARD
END:VTIMEZONE
BEGIN:VEVENT
SUMMARY:Where Are They Now: Salvadore - Jaws 07/04/2025
DTSTAMP:20250704T231824Z
SEQUENCE:0
UID:374-5-c3fe8195a3dde498d013e477e2142422@aalbc.com
ORGANIZER;CN="richardmurray":noreply@aalbc.com
DESCRIPTION:\n	Where Are They Now: Salvadore - Jaws\n\n\n\n	In a comment
	 in the deviantart post linked below in 250 words or less\, in your own wo
	rds and without the assistance of AI or similar machine learning tools\, w
	rite a short fan fiction detailing the continuing story of Salvadore from 
	Jaws and his fishing or non fishing exploits after that fateful July 4th s
	eason in Amity Island. Help Jaws aficionado's solve the mystery of this re
	sident! \n\n\n\n	Here’s the rules and rewards for this @CRLiterature ac
	tivity: \n\n\n\n	All entries must abide by the DeviantArt Terms of Servic
	e\, Fair Use rules for submissions\, and the group rules for CRLiterature\
	; off topic or inappropriate entries will be removed.  \n\n\n\n	Share you
	r entry as a comment to this journal for reward considerations.    
	 \n\n\n\n	Only submit one (1) comment for this engagement that is your ve
	ry best work\; all entries must be original concepts and human-written\, n
	o AI-assisted entries are allowed and will be removed.       \n\
	n\n\n	Comment with your entry by the end of the day on Thursday July 31\, 
	2025 for rewards consideration for this activity.  \n\n\n\n	Winners selec
	ted at the sole discretion of CRLiterature group admin\; all decisions are
	 final and non-negotiable. We will select four (4) winners by Friday Augus
	t 8\, 2025\, to receive the following rewards::\n\n\n\n	Each winner will g
	et 500 points and a quartz badge\n\n\n\n	One of the four will get a hype b
	adge\n\n	https://www.deviantart.com/hddeviant/journal/Where-Are-They-Now-S
	alvadore-Jaws-1210527648\n\n\n\n	 \n\n\n\n	the standalone story \n\n\n\n
		https://www.deviantart.com/hddeviant/art/Where-is-Salvadore-Now-121698824
	8\n\n\n\n	Audio\n\n\n\n	https://www.tumblr.com/richardmurrayhumblr/7915942
	97330892800/where-are-they-now-salvadore-jaws-by-hddeviant\n\n\n\n	 \n\n\
	n\n	https://www.tumblr.com/richardmurrayhumblr/791594297330892800/where-ar
	e-they-now-salvadore-jaws-by-hddeviant\n\n\n\n\n	 \n\n
DTSTART;VALUE=DATE:20250704
RRULE:FREQ=YEARLY;INTERVAL=1
END:VEVENT
END:VCALENDAR
