BEGIN:VCALENDAR
VERSION:2.0
PRODID:-//InvisionCommunity Events 5.0.18//EN
METHOD:PUBLISH
CALSCALE:GREGORIAN
REFRESH-INTERVAL:PT15M
X-PUBLISHED-TTL:PT15M
X-WR-CALNAME:RMWorkCalendar
NAME:RMWorkCalendar
BEGIN:VTIMEZONE
TZID:Europe/London
TZURL:https://tzurl.org/zoneinfo/Europe/London
X-LIC-LOCATION:Europe/London
BEGIN:DAYLIGHT
TZOFFSETFROM:+0000
TZOFFSETTO:+0100
TZNAME:BST
DTSTART:20250330T020000Z
RRULE:FREQ=YEARLY;BYMONTH=3;BYDAY=-1SU
END:DAYLIGHT
BEGIN:STANDARD
TZOFFSETFROM:+0100
TZOFFSETTO:+0000
TZNAME:GMT
DTSTART:20251026T020000Z
RRULE:FREQ=YEARLY;BYMONTH=10;BYDAY=-1SU
END:STANDARD
END:VTIMEZONE
BEGIN:VEVENT
SUMMARY:Black Male Whitephilia 07/05/2025
DTSTAMP:20250705T192051Z
SEQUENCE:0
UID:388-5-c3fe8195a3dde498d013e477e2142422@aalbc.com
ORGANIZER;CN="richardmurray":noreply@aalbc.com
DESCRIPTION:\n	Moments with Mani said\n\n\n\n	I have a question for any 
	black man who reads this:\n\n\n\n	You guys have a tendency to talk about p
	ossibly falling in love with a white woman or making statements like “no
	t all white women are racist”. My question to you is\, do you believe wh
	ite women will go out of their way to defend you and show the world that y
	ou’re a good man to their racist/ignorant counterparts?\n\n\n\n	I’m no
	t throwing shots\, I’ve been commonly seeing black men pedestalize white
	 women while downplaying black women over anti black stereotypes for the p
	ast few years and now I have questions…\n\n\n\n	 \n\n\n\n	https://www.t
	umblr.com/momentswithmani/788197731691839488/i-have-a-question-for-any-bla
	ck-man-who-reads?source=share\n\n\n\n	MY ANSWER\n\n\n\n	I will be blunt\, 
	no black man I know of offline \, whom I have talked to\, ever talked to m
	e saying they will possibly fall in love with a white woman or said not al
	l white women are racist. I have heard black men offline say not all white
	 people are racist. So offline I haven't been privy to the tendencies you 
	have. As online communication is mostly strangers but with a larger popula
	ce it can not be compared to offline. but in my online life among many mal
	e black artist I have not read the tendencies you describe.  Now to answe
	r your question. I have no experience with a white woman at any level of i
	ntimate and only as distant colleagues. So I have never been in a position
	 to warrant or need a white woman to defend or present me to the greater w
	hite populace. having said that\, I have seen in NYC\, not all of the USA\
	, just NYC\, various individuals from one type of a race defend another in
	dividual from another type of the same race from a larger populace. I have
	 seen a jew defend a muslim against those in the jewish community suggesti
	ng said muslim is anti jewish. I have seen a white man defend a black man 
	from claims from many in the white community that said black man is bad. W
	hat is my point to conclude my answer. I have no reason based on my person
	al life or what I have seen to believe a white women will defend a black m
	an's character from various in the white populace claiming otherwise. Is i
	t possible for a white woman to defend a black man? yes. It is positively 
	probable a white woman will defend a black man's character\, something to 
	bet on\, something  common? no and I argue never. My black environment of
	fline or online luckily doesn't have a large number of black people who ar
	e whitephiles.\n\n
DTSTART;VALUE=DATE:20250705
RRULE:FREQ=YEARLY;INTERVAL=1
END:VEVENT
END:VCALENDAR
