BEGIN:VCALENDAR
VERSION:2.0
PRODID:-//InvisionCommunity Events 5.0.18//EN
METHOD:PUBLISH
CALSCALE:GREGORIAN
REFRESH-INTERVAL:PT15M
X-PUBLISHED-TTL:PT15M
X-WR-CALNAME:RMWorkCalendar
NAME:RMWorkCalendar
BEGIN:VTIMEZONE
TZID:Europe/London
TZURL:https://tzurl.org/zoneinfo/Europe/London
X-LIC-LOCATION:Europe/London
BEGIN:DAYLIGHT
TZOFFSETFROM:+0000
TZOFFSETTO:+0100
TZNAME:BST
DTSTART:20250330T020000Z
RRULE:FREQ=YEARLY;BYMONTH=3;BYDAY=-1SU
END:DAYLIGHT
BEGIN:STANDARD
TZOFFSETFROM:+0100
TZOFFSETTO:+0000
TZNAME:GMT
DTSTART:20251026T020000Z
RRULE:FREQ=YEARLY;BYMONTH=10;BYDAY=-1SU
END:STANDARD
END:VTIMEZONE
BEGIN:VEVENT
SUMMARY:Alien-queen77's OC Deimyn's Morning Blossom 07/08/2025
DTSTAMP:20250708T153522Z
SEQUENCE:0
UID:393-5-c3fe8195a3dde498d013e477e2142422@aalbc.com
ORGANIZER;CN="richardmurray":noreply@aalbc.com
DESCRIPTION:\n	I figured Deimyn wakes up in the early morning in her con
	quering rose dress. The head of someone dripping blood on her vines\, whic
	h help lift her \, hold her mirror\, yet also comes from inside her mind.
	 \n\n	Black Artist of Tumblr page\n\n	https://www.tumblr.com/communities/
	black-artist-on-tjambler/post/788516389145182208/alien-queen77s-oc-deimyns
	-morning-blossom-by?source=share\n\n\n\n	deviantart coloring page\n\n	http
	s://www.deviantart.com/hddeviant/art/1215980699\n\n\n\n	 \n\n\n\n	\n\n\n\
	n	\n\n	EMBED CODE\n\n	\n\n
DTSTART;VALUE=DATE:20250708
RRULE:FREQ=YEARLY;INTERVAL=1
END:VEVENT
END:VCALENDAR
