BEGIN:VCALENDAR
VERSION:2.0
PRODID:-//InvisionCommunity Events 5.0.18//EN
METHOD:PUBLISH
CALSCALE:GREGORIAN
REFRESH-INTERVAL:PT15M
X-PUBLISHED-TTL:PT15M
X-WR-CALNAME:RMWorkCalendar
NAME:RMWorkCalendar
BEGIN:VTIMEZONE
TZID:Europe/London
TZURL:https://tzurl.org/zoneinfo/Europe/London
X-LIC-LOCATION:Europe/London
BEGIN:DAYLIGHT
TZOFFSETFROM:+0000
TZOFFSETTO:+0100
TZNAME:BST
DTSTART:20250330T020000Z
RRULE:FREQ=YEARLY;BYMONTH=3;BYDAY=-1SU
END:DAYLIGHT
BEGIN:STANDARD
TZOFFSETFROM:+0100
TZOFFSETTO:+0000
TZNAME:GMT
DTSTART:20251026T020000Z
RRULE:FREQ=YEARLY;BYMONTH=10;BYDAY=-1SU
END:STANDARD
END:VTIMEZONE
BEGIN:VEVENT
SUMMARY:BOOK REVIEW: ADAM AND EVE MAKE A BIG\, BIG MISTAKE BUT GOD F
	IX' IT from Jean Ann Field-Ridley
DTSTAMP:20250825T224617Z
SEQUENCE:0
UID:471-5-c3fe8195a3dde498d013e477e2142422@aalbc.com
ORGANIZER;CN="richardmurray":noreply@aalbc.com
DESCRIPTION:\n	ADAM AND EVE MAKE A BIG\, BIG MISTAKE BUT GOD FIX' IT fro
	m Jean Ann Field-Ridley\n\n	ADAM AND EVE MAKE A BIG\, BIG MISTAKE BUT GOD 
	FIX' IT September 15\,2023\n\n	by Jean Ann Field-Ridley @JenanFR\n\n	REFER
	RAL IN AALBC\n\n	https://aalbc.com/tc/topic/10622-racial-and-cultural-repr
	esentation-in-biblical-storytelling-the-caribbean-experience/\n\n\n\n	Buy 
	The Book\n\n\n\n	https://www.am*zon.com/ADAM-EVE-MAKE-BIG-MISTAKE-ebook/dp
	/B0CH5S5KZ5\n\n\n\n	MY REVIEW\n\n\n\n	\"Elenchos kai anatrope tes pseudony
	mou gnoseos\" is the title of a book by a Christian\, defined in\n\n\n\n	t
	his review as someone who has faith in Jesus Christ in some form or fashio
	n\, named Irenaeus\,\n\n\n\n	of Hellenistic ancestry who lived in Lugdunum
	 now commonly called in modernity Lyon in\n\n\n\n	France\, who lived circa
	 130 to 202 years after the birth of Jesus. The title translates\, Control
	 and\n\n\n\n	overthrow the falsely named Knowing. The message in this old 
	book is to suggest one thing\, no\n\n\n\n	option available. Orthodoxy\, st
	raight opinion\, is superior to heresy\, choice. The Gnostic\n\n\n\n	movem
	ent at its historic core opposed the idea that Christianity has one line o
	f thinking\, a\n\n\n\n	straight road. Throughout the course of Christian h
	istory Christian groups through schisms\, like\n\n\n\n	the split between t
	he Christian Church centered in Roma side the Christian church centered in
	\n\n\n\n	Nova Roma\, or groups protesting a new way\, like the Church of J
	esus Christ and latter-day\n\n\n\n	saints\, publicly support heresy.\n\n\n
	\n	\"Adam And Eve Make Big Mistake\" by Jean Ann Field-Ridley is a modern 
	book\, while its\n\n\n\n	purpose reflect the literary heritage of Irenaeus
	 plus the Gnostics\, through a Christian making a\n\n\n\n	book to a need i
	n the Christian community of the literature's time while emphasizing a cho
	ice\n\n\n\n	that is against a standard presentation of Christianity.\n\n\n
	\n	Field-Ridley is a Black woman of the Caribbean and has publicly stated 
	she feels in the\n\n\n\n	Caribbean Christianity is viewed by many as a rel
	igion for whites of European descent or whites\n\n\n\n	of anywhere. Sequen
	tially\, many Blacks in the Caribbean don't see a choice in being Christia
	n\, if\n\n\n\n	they also wish to be true to themselves.\n\n\n\n	The book i
	s geared towards children of the Caribbean\, using literature that when sp
	oken\n\n\n\n	resounds culturally to the Caribbean. While I comprehended im
	mediately the stories within the\n\n\n\n	book\, reflecting Christian bible
	 stories\, the flavor of the text was unfamiliar to me\, as for\n\n\n\n	ex
	ample the book of Genesis covered in the book.\n\n\n\n	In the spirit of ea
	rly Christian literature this book does not interpret each book of the apo
	stles or\n\n\n\n	all books of the Septuagint\, the predecessor of the Old 
	Testament. The illustrative border style is\n\n\n\n	elegant or beautiful w
	hile the images are incoherent in storytelling approach.\n\n\n\n	Christian
	 parents may need to make adjustments to what they say while they read bas
	ed on their\n\n\n\n	faith in Jesus. But the book totally embraces or never
	 betrays through language or imagery\n\n\n\n	aracial unity in humanity. Wh
	ich is a prerequisite in the goal of the author or the agenda in the\n\n\n
	\n	book\, to get a populace of humans who have lived under the power of an
	other populace to\n\n\n\n	embrace a culture delivered by slave chain when 
	they are no longer enslaved. It is in the spirit of\n\n\n\n	heresy\, choic
	e\, that Jesus\, born a Jew and surrounded by Jewish clergy testing or cha
	llenging\n\n\n\n	him\, chose to lead a new way open to all\, which became 
	Christianity. No book can guarantee an\n\n\n\n	affect on a reader. But aft
	er an attempt\, if it can increase\, by any measure\, a human child\n\n\n\
	n	choosing to embrace or hold onto something from humanity they opposed or
	 doubted\, the\n\n\n\n	extended family of Eve and Adam is better for it.\n
	\n\n\n	\n\n\n\n	 \n\n
DTSTART;VALUE=DATE:20250915
RRULE:FREQ=YEARLY;INTERVAL=1
END:VEVENT
END:VCALENDAR
