BEGIN:VCALENDAR
VERSION:2.0
PRODID:-//InvisionCommunity Events 5.0.18//EN
METHOD:PUBLISH
CALSCALE:GREGORIAN
REFRESH-INTERVAL:PT15M
X-PUBLISHED-TTL:PT15M
X-WR-CALNAME:RMCommunityCalendar
NAME:RMCommunityCalendar
BEGIN:VTIMEZONE
TZID:Europe/London
TZURL:https://tzurl.org/zoneinfo/Europe/London
X-LIC-LOCATION:Europe/London
BEGIN:DAYLIGHT
TZOFFSETFROM:+0000
TZOFFSETTO:+0100
TZNAME:BST
DTSTART:20250330T020000Z
RRULE:FREQ=YEARLY;BYMONTH=3;BYDAY=-1SU
END:DAYLIGHT
BEGIN:STANDARD
TZOFFSETFROM:+0100
TZOFFSETTO:+0000
TZNAME:GMT
DTSTART:20251026T020000Z
RRULE:FREQ=YEARLY;BYMONTH=10;BYDAY=-1SU
END:STANDARD
END:VTIMEZONE
BEGIN:VEVENT
SUMMARY:Nelson Mandela needed in todays time from Osasu Obayiuwana
DTSTAMP:20250913T052043Z
SEQUENCE:0
UID:502-7-c3fe8195a3dde498d013e477e2142422@aalbc.com
ORGANIZER;CN="richardmurray":noreply@aalbc.com
DESCRIPTION:\n	Nelson Mandela\n\n	https://x.com/osasuo/status/1965143159
	471833302\n\n\n\n	my comment\n\n	From a distance\, I think Mandela was a d
	ifferent man in temperament from life experiences\,features when youngest\
	,agenda as a president compared to schrumpft. But Mandela made mistakes as
	 president of south africa. Osasu\, what was Mandela's biggest mistake as 
	president of SA?\n\n	my sharing\n\n	@osasuo makes a great point that what 
	differs from a president/man like Mandela compared to a president/man like
	 schrumpft is not merely humility. But to have a custom \, that survived a
	nd grew from painful prison\, to recognize all in a blood feud live on the
	 ground. what say you?\n\n	IN AMENDMENT  \n\n	well... from a distance I 
	think Mandela as a person is vastly different from Schrumpft. As a woman f
	rom south africa said\, Mandela went into jail with a traditional robe and
	 came out in a european suit. Mandela survived prison\, changed but not de
	leted. Schrumpft has (1/5) never had to face a similar challenge plus unli
	ke Mandela before Mandela's imprisonment\, Shrumpft never fought for the b
	etterment of others against oppressors\, only his greed or mobstarting(2/5
	) Mandela also post prison fought against black people including his wife 
	and children who didn't want the integration mandela staked his remaining 
	life/reputation/hopes on(3/5) But after three drops of honey I must say th
	e pot is Schrumpft+Mandela have one thing in common\, neither know how to 
	make the path the populace in their respective country needs/needed. a kin
	d heart never saved anybody(4/5) and a hateful heart never killed anybody.
	 Results is what governors need more than their manners or temperaments be
	ing good or bad. (5/5)\n\n	 \n\n
DTSTART;VALUE=DATE:20250909
RRULE:FREQ=YEARLY;INTERVAL=1
END:VEVENT
END:VCALENDAR
