BEGIN:VCALENDAR
VERSION:2.0
PRODID:-//InvisionCommunity Events 5.0.18//EN
METHOD:PUBLISH
CALSCALE:GREGORIAN
REFRESH-INTERVAL:PT15M
X-PUBLISHED-TTL:PT15M
X-WR-CALNAME:RMWorkCalendar
NAME:RMWorkCalendar
BEGIN:VTIMEZONE
TZID:Europe/London
TZURL:https://tzurl.org/zoneinfo/Europe/London
X-LIC-LOCATION:Europe/London
BEGIN:DAYLIGHT
TZOFFSETFROM:+0000
TZOFFSETTO:+0100
TZNAME:BST
DTSTART:20250330T020000Z
RRULE:FREQ=YEARLY;BYMONTH=3;BYDAY=-1SU
END:DAYLIGHT
BEGIN:STANDARD
TZOFFSETFROM:+0100
TZOFFSETTO:+0000
TZNAME:GMT
DTSTART:20251026T020000Z
RRULE:FREQ=YEARLY;BYMONTH=10;BYDAY=-1SU
END:STANDARD
END:VTIMEZONE
BEGIN:VEVENT
SUMMARY:Heavy Metal Magazine Free Voting Booths RESULTS for Loctober
	 2025
DTSTAMP:20250919T210941Z
SEQUENCE:0
UID:511-5-c3fe8195a3dde498d013e477e2142422@aalbc.com
ORGANIZER;CN="richardmurray":noreply@aalbc.com
DESCRIPTION:\n	POLL LIST\n\n	https://aalbc.com/tc/events/event/498-heavy
	-metal-magazine-free-voting-booths-for-loctober/\n\n\n\n	DEVIANTART\n\n	ht
	tps://www.deviantart.com/hddeviant/poll/Pick-one-of-these-themes-you-want-
	me-to-draw-I-will-add-a-small-story-loctober-heavymetal-8672618\n\n\n\n	pr
	oof of winner SPACE PIRATE QUEEN\n\n	https://www.deviantart.com/comments/1
	4/8672618/5236016128\n\n\n\n	TUMBLR\n\n	https://www.tumblr.com/richardmurr
	ayhumblr/794514088027996160/pick-one-of-these-themes-you-want-me-to-draw-f
	or?source=share\n\n\n\n	proof of winners- ended in a draw- WARRIOR RIDING 
	A DIREWOLF and VAMPIRE QUEENS FEAST\n\n	https://www.tumblr.com/richardmurr
	ayhumblr/794514088027996160/pick-one-of-these-themes-you-want-me-to-draw-f
	or/replies/795151199251939328\n\n\n\n	BLKTALES \n\n	https://discord.com/c
	hannels/1082791769701363742/1087756593845772338/1416228013913280602\n\n\n\
	n	proof of winners- yes make story\n\n	https://discord.com/channels/108279
	1769701363742/1087756593845772338/1418704528621965382\n\n\n\n	AALBC\n\n	ht
	tps://aalbc.com/tc/topic/11863-pick-one-of-these-themes-you-want-me-to-dra
	w-heavymetal-loctober/\n\n\n\n	proof of winner COSMIC ENTITY AWAKENING\n\n
		https://aalbc.com/tc/topic/11863-pick-one-of-these-themes-you-want-me-to-
	draw-heavymetal-loctober/#findComment-76205\n\n\n\n	So\, in October\n\n\n\
	n	 \n\n\n\n	SPACE PIRATE QUEEN illustration + Story will be posted on my 
	DeviantArt profile. \n\n	Story shared to CRliterature/Dreadful Tales\n\n	
	Illustration shared to Color-me-club/inkblot splatter/dreadful tales\n\n\n
	\n	 \n\n\n\n	WARRIOR RIDING A DIREWOLF + VAMPIRE QUEENS FEAST will each h
	ave three illustrated versions in tumblr and one story version in blktouch
	\n\n	Clothed illustration for blackartistoftumblr\n\n	Noddy illustration f
	or midnighthour + story for blktales\n\n	filmnoir illustration for filmnoi
	rpigeons\n\n\n\n	 \n\n\n\n	COSMIC ENTITY AWAKENING illustration + Story i
	n AALBC African American Literary Book Club\n\n\n\n	 \n\n
DTSTART;VALUE=DATE:20250919
RRULE:FREQ=YEARLY;INTERVAL=1
END:VEVENT
END:VCALENDAR
