BEGIN:VCALENDAR
VERSION:2.0
PRODID:-//InvisionCommunity Events 5.0.18//EN
METHOD:PUBLISH
CALSCALE:GREGORIAN
REFRESH-INTERVAL:PT15M
X-PUBLISHED-TTL:PT15M
X-WR-CALNAME:RMWorkCalendar
NAME:RMWorkCalendar
BEGIN:VTIMEZONE
TZID:Europe/London
TZURL:https://tzurl.org/zoneinfo/Europe/London
X-LIC-LOCATION:Europe/London
BEGIN:DAYLIGHT
TZOFFSETFROM:+0000
TZOFFSETTO:+0100
TZNAME:BST
DTSTART:20250330T020000Z
RRULE:FREQ=YEARLY;BYMONTH=3;BYDAY=-1SU
END:DAYLIGHT
BEGIN:STANDARD
TZOFFSETFROM:+0100
TZOFFSETTO:+0000
TZNAME:GMT
DTSTART:20251026T020000Z
RRULE:FREQ=YEARLY;BYMONTH=10;BYDAY=-1SU
END:STANDARD
END:VTIMEZONE
BEGIN:VEVENT
SUMMARY:Richard Murray's Public Literary Challenge Listing #RMPLCL i
	nitialized09/28/2025
DTSTAMP:20251004T200442Z
SEQUENCE:0
UID:532-5-c3fe8195a3dde498d013e477e2142422@aalbc.com
ORGANIZER;CN="richardmurray":noreply@aalbc.com
DESCRIPTION:\n	Richard Murray's Public Literary Challenge Listing #RMPLC
	L\n\n	A an ever-growing list of couples\, Literary Challenge aside Example
	 of Challenge Entry\, as long as I am alive. Currently\, the couplets\, I 
	call Dualations\, stem from my activities at CRLiterature group in Deviant
	art\, where I am known as HDdeviant. Each public challenge will be added t
	o this work. Enjoy reading the examples or taking part of the challenges.\
	n\n	https://www.kobo.com/us/en/ebook/richard-murray-s-public-literary-chal
	lenge-listing-rmplcl\n\n\n\n	 \n\n\n\n	A an ever-growing list of couples\
	, Literary Challenge aside Example of Challenge Entry\, as long as I am al
	ive. Currently\, the couplets\, I call Dualations\, stem from my activitie
	s at CRLiterature group in Deviantart\, where I am known as HDdeviant. Eac
	h public challenge will be added to this work. Enjoy reading the examples 
	or taking part of the challenges.\n\n\n\n	If you want to listen to the exa
	mples the following audiobook is available\n\n\n\n	Richard Murray's Public
	 Literary Challenge Examples Listing #RMPLCEL\n\n\n\n	https://www.kobo.com
	/us/en/audiobook/richard-murray-s-public-literary-challenge-examples-listi
	ng-rmplcel\n\n\n\n	 \n\n\n\n	Audiobook Calendar Post\n\n\n\n	https://aalb
	c.com/tc/events/event/534-richard-murrays-public-literary-challenge-exampl
	es-listing-rmplcel-initialized-10052025/\n\n\n\n	 \n\n\n\n	FORUM POST\n\n
	\n\n	For this and the companion audiobook\n\n\n\n	\n\n	https://aalbc.com/t
	c/topic/11945-richard-murray-public-literary-challenges/\n\n\n\n	for just 
	the epub\n\n\n\n	https://aalbc.com/tc/topic/11940-richard-murrays-public-l
	iterary-challenge-listing-rmplcl /\n\n\n\n	 \n\n
DTSTART;VALUE=DATE:20250928
RRULE:FREQ=YEARLY;INTERVAL=1
END:VEVENT
END:VCALENDAR
