BEGIN:VCALENDAR
VERSION:2.0
PRODID:-//InvisionCommunity Events 5.0.18//EN
METHOD:PUBLISH
CALSCALE:GREGORIAN
REFRESH-INTERVAL:PT15M
X-PUBLISHED-TTL:PT15M
X-WR-CALNAME:RMWorkCalendar
NAME:RMWorkCalendar
BEGIN:VTIMEZONE
TZID:Europe/London
TZURL:https://tzurl.org/zoneinfo/Europe/London
X-LIC-LOCATION:Europe/London
BEGIN:DAYLIGHT
TZOFFSETFROM:+0000
TZOFFSETTO:+0100
TZNAME:BST
DTSTART:20250330T020000Z
RRULE:FREQ=YEARLY;BYMONTH=3;BYDAY=-1SU
END:DAYLIGHT
BEGIN:STANDARD
TZOFFSETFROM:+0100
TZOFFSETTO:+0000
TZNAME:GMT
DTSTART:20251026T020000Z
RRULE:FREQ=YEARLY;BYMONTH=10;BYDAY=-1SU
END:STANDARD
END:VTIMEZONE
BEGIN:VEVENT
SUMMARY:Richard Murray's Public Literary Challenge Examples Listing 
	#RMPLCEL initialized 10/05/2025
DTSTAMP:20251006T221656Z
SEQUENCE:0
UID:534-5-c3fe8195a3dde498d013e477e2142422@aalbc.com
ORGANIZER;CN="richardmurray":noreply@aalbc.com
DESCRIPTION:\n	Richard Murray's Public Literary Challenge Examples Listi
	ng #RMPLCEL\n\n	https://www.kobo.com/us/en/audiobook/richard-murray-s-publ
	ic-literary-challenge-examples-listing-rmplcel\n\n\n\n	 \n\n\n\n	A an eve
	r-growing list of examples\, as long as I am alive. Currently the examples
	 stem from my activities at the CRLiterature group in Deviantart\, where I
	 am known as HDdeviant. Each example from each public challenge will be ad
	ded to this work. Enjoy listening to the examples. The voice is not mine. 
	The voices are automated/synthography/AI/computer generated. If you want m
	y listen to my voice you can enjoy any of the tip jar audios for pay\, whe
	re I also provide excerpts for free.\n\n\n\n	This is a companion work to\n
	\n\n\n	Richard Murray's Public Literary Challenge Listing #RMPLCL \,\n\n\n
	\n	https://www.kobo.com/us/en/ebook/richard-murray-s-public-literary-chall
	enge-listing-rmplcl\n\n\n\n	which list the example stories aside the liter
	ary challenges they were designed to promote.\n\n\n\n	 \n\n\n\n	CALENDAR 
	POST For Ebook\n\n\n\n	https://aalbc.com/tc/events/event/532-richard-murra
	ys-public-literary-challenge-listing-rmplcl-initialized09282025/\n\n\n\n	
	 \n\n\n\n	FORUM POST\n\n\n\n	\n\n	https://aalbc.com/tc/topic/11945-richar
	d-murray-public-literary-challenges/\n\n\n\n	 \n\n
DTSTART;VALUE=DATE:20251005
RRULE:FREQ=YEARLY;INTERVAL=1
END:VEVENT
END:VCALENDAR
