BEGIN:VCALENDAR
VERSION:2.0
PRODID:-//InvisionCommunity Events 5.0.18//EN
METHOD:PUBLISH
CALSCALE:GREGORIAN
REFRESH-INTERVAL:PT15M
X-PUBLISHED-TTL:PT15M
X-WR-CALNAME:RMWorkCalendar
NAME:RMWorkCalendar
BEGIN:VTIMEZONE
TZID:Europe/London
TZURL:https://tzurl.org/zoneinfo/Europe/London
X-LIC-LOCATION:Europe/London
BEGIN:DAYLIGHT
TZOFFSETFROM:+0000
TZOFFSETTO:+0100
TZNAME:BST
DTSTART:20250330T020000Z
RRULE:FREQ=YEARLY;BYMONTH=3;BYDAY=-1SU
END:DAYLIGHT
BEGIN:STANDARD
TZOFFSETFROM:+0100
TZOFFSETTO:+0000
TZNAME:GMT
DTSTART:20251026T020000Z
RRULE:FREQ=YEARLY;BYMONTH=10;BYDAY=-1SU
END:STANDARD
END:VTIMEZONE
BEGIN:VEVENT
SUMMARY:Where Are They Now: Zero - A Nightmare Before Christmas
DTSTAMP:20251008T222218Z
SEQUENCE:0
UID:537-5-c3fe8195a3dde498d013e477e2142422@aalbc.com
ORGANIZER;CN="richardmurray":noreply@aalbc.com
DESCRIPTION:\n	https://www.deviantart.com/hddeviant/journal/WATN-Zero-A-
	Nightmare-Before-Christmas-1242380366\n\n\n\n	\n\n	Zero our beloved ghost 
	dog from Nightmare before Christmas needs your help in continuing his gran
	d adventures \n\n	Enjoy the ongoing fun in the Where Are They Now series!
	\n\n	Coloring pages\, example stories in text or audio are all available t
	o help you create or just to enjoy \n\n\n\n	\n\n	EXAMPLE OR ASISSTING CON
	TENT calendar post\n\n\n\n	https://aalbc.com/tc/events/event/531-zeros-unf
	olding-adventure-in-literaturecoloring-pagesaudio/\n\n\n\n	 \n\n
DTSTART;VALUE=DATE:20251008
RRULE:FREQ=YEARLY;INTERVAL=1
END:VEVENT
END:VCALENDAR
