BEGIN:VCALENDAR
VERSION:2.0
PRODID:-//InvisionCommunity Events 5.0.18//EN
METHOD:PUBLISH
CALSCALE:GREGORIAN
REFRESH-INTERVAL:PT15M
X-PUBLISHED-TTL:PT15M
X-WR-CALNAME:RMWorkCalendar
NAME:RMWorkCalendar
BEGIN:VTIMEZONE
TZID:Europe/London
TZURL:https://tzurl.org/zoneinfo/Europe/London
X-LIC-LOCATION:Europe/London
BEGIN:DAYLIGHT
TZOFFSETFROM:+0000
TZOFFSETTO:+0100
TZNAME:BST
DTSTART:20250330T020000Z
RRULE:FREQ=YEARLY;BYMONTH=3;BYDAY=-1SU
END:DAYLIGHT
BEGIN:STANDARD
TZOFFSETFROM:+0100
TZOFFSETTO:+0000
TZNAME:GMT
DTSTART:20251026T020000Z
RRULE:FREQ=YEARLY;BYMONTH=10;BYDAY=-1SU
END:STANDARD
END:VTIMEZONE
BEGIN:VEVENT
SUMMARY: Giant Pseudozombie Manual Mobile Fortress for #ghostsofgal
	leriespast
DTSTAMP:20251022T061646Z
SEQUENCE:0
UID:550-5-c3fe8195a3dde498d013e477e2142422@aalbc.com
ORGANIZER;CN="richardmurray":noreply@aalbc.com
DESCRIPTION:\n	Giant  Pseudozombie Manual Mobile Fortress for #ghostsof
	galleriespast\n\n	https://www.deviantart.com/hddeviant/art/Giant-Pseudozom
	bie-Manual-Mobile-Fortress-1255330430\n\n\n\n	 \n\n\n\n	\n\n	\n\n\n\n	 \
	n\n\n\n	Original Image\n\n\n\n	\n\n	\n\n\n\n	 \n\n\n\n	 \n\n
DTSTART;VALUE=DATE:20251022
RRULE:FREQ=YEARLY;INTERVAL=1
END:VEVENT
END:VCALENDAR
