BEGIN:VCALENDAR
VERSION:2.0
PRODID:-//InvisionCommunity Events 5.0.18//EN
METHOD:PUBLISH
CALSCALE:GREGORIAN
REFRESH-INTERVAL:PT15M
X-PUBLISHED-TTL:PT15M
X-WR-CALNAME:RMCommunityCalendar
NAME:RMCommunityCalendar
BEGIN:VTIMEZONE
TZID:Europe/London
TZURL:https://tzurl.org/zoneinfo/Europe/London
X-LIC-LOCATION:Europe/London
BEGIN:DAYLIGHT
TZOFFSETFROM:+0000
TZOFFSETTO:+0100
TZNAME:BST
DTSTART:20240331T020000Z
RRULE:FREQ=YEARLY;BYMONTH=3;BYDAY=-1SU
END:DAYLIGHT
BEGIN:STANDARD
TZOFFSETFROM:+0100
TZOFFSETTO:+0000
TZNAME:GMT
DTSTART:20241027T020000Z
RRULE:FREQ=YEARLY;BYMONTH=10;BYDAY=-1SU
END:STANDARD
END:VTIMEZONE
BEGIN:VEVENT
SUMMARY:Economic Corner 4 - December 17th 2024
DTSTAMP:20251122T073050Z
SEQUENCE:0
UID:598-7-c3fe8195a3dde498d013e477e2142422@aalbc.com
ORGANIZER;CN="richardmurray":noreply@aalbc.com
DESCRIPTION:\n	Mufasa has yet to come out but what can be gathered from 
	the end of the year. \n\n\n\n	The highest grossing films\, top ten\,  ma
	de in 2024 were all continuations of a prior film in some fashion\, and th
	at includes mufasa\, if it has similar financial results. \n\n\n\n	The ma
	rket outside the usa embraces cartoon films more. Films from the usa that 
	display a distinctly usa cultural appeal don't have wings outside the usa.
	 \n\n\n\n	The far east asian [China/Taiwan/South Korea/Russian] market st
	ands alone as a rival to the usa domestic market. To restate\, a film can 
	do well domestically in south korea/China/taiwan/russia  and not do well 
	outside either and be listed in the highest grossing films\, just like fil
	ms of the usa. The chinese films make up the majority of the films in the 
	far east asian and they cover a range of styles\, not overwhelmed by one g
	enre\, but comedy seems to be the link between all the entries from the fo
	ur sources in the far east asian group. \n\n\n\n	 \n\n\n\n	All but one f
	ilm was made in the usa. [ https://en.wikipedia.org/wiki/2024_in_film ]\
	n\n\n\n	 \n\n\n\n	\n\n\n\n	Discounting the chinese market \, if you compa
	re USA based revenue to outside USA based revenue\, which films have diffe
	rences in position [ https://www.boxofficemojo.com/year/world/2024/  ]\
	n\n\n\n	 \n\n\n\n	Advantage to market outside the usa \n\n\n\n	Alien Rom
	ulus\, out of the picture in the usa 10th outside the usa \, difference of
	 INF \, anti usa\n\n\n\n	Joker Folie a deux out of the picture in the usa 
	17th outside the usa \, difference of INF \, anti usa\n\n\n\n	Garfield mov
	ie out of the picture in the usa 18th outside the usa \, difference of IN
	F \, anti usa\n\n\n\n	Detective COnan out of the picture in the usa 20 th
	 outside the usa \, difference of INF \, anti usa\n\n\n\n	Venom the last d
	ance 16th in the usa 8th outside the usa\, difference of eight\, anti usa\
	n\n\n\n	Gladiator 2\, 14th in the usa  9th outside the usa\, difference o
	f five\, anti usa\n\n\n\n	Dune part 2 is 7th in the usa while 4th outside 
	the usa\, diffference of three\, anti usa\n\n\n\n	Godzilla Kong new empire
	 is 9th in the usa and  6th outside the usa\, difference of three\, anti 
	usa\n\n\n\n	Kung Fu panda 4 is 10th in the usa while 7th  outside the usa
	 \, difference of three\, anti usa\n\n\n\n	Kingdom of the planet of the ap
	es\, 12th in the usa  11th \, outside the usa\, difference of one\, anti 
	usa\n\n\n\n	The Wild Robot 15th in the usa  14th outside the usa\, differ
	ence of one\, anti usa\n\n\n\n	 \n\n\n\n	Advantage to market in the usa\n
	\n\n\n	Twisters is 8th in the usa and out of the picture outside the usa\,
	 difference of INF \, pro usa\n\n\n\n	GHostbusters frozen empire 18th in t
	he usa out of the picture outside the usa\, difference of INF\, pro usa\n\
	n\n\n	Wicked is 4th in the usa while 15th outside the usa\, difference of 
	eleven\, pro usa\n\n\n\n	Beetlejuice Beetlejuice is 6th in the usa while 1
	6th outside the usa\, difference of ten\, pro usa\n\n\n\n	A quiet place da
	y one 17th in the usa  19th outside the usa\, difference of two\, pro usa
	\n\n\n\n	Bad Boy ride or die  11th in the usa  12th  outside the usa\, 
	difference of one\, pro usa\n\n\n\n	 \n\n\n\n	 \n\n\n\n	\n\n\n\n	 \n\n\
	n\n	\n\n\n\n	 \n\n\n\n	Chinese produced films\, are dispersed throughout.
	 It seems china has the only domestic market that can truly provide revenu
	e to challenge the wealth possible in the usa. [ https://www.the-numbers.
	com/box-office-records/worldwide/all-movies/cumulative/released-in-2024 ]
	\n\n\n\n	\n\n\n\n	 \n\n\n\n	LAst edition\n\n\n\n	https://aalbc.com/tc/top
	ic/11358-economiccorner003/\n\n\n\n	POST URL\n\n\n\n	https://aalbc.com/tc/
	topic/11377-economiccorner004/\n\n\n\n	PRIOR EDITION\n\n\n\n	https://aalbc
	.com/tc/events/event/597-economic-corner-3-december-8th-2024/\n\n\n\n	NEXT
	 EDIITON\n\n\n\n	https://aalbc.com/tc/events/event/141-economic-corner-5-j
	anuary-4th-2025 /\n\n\n\n	 \n\n
DTSTART;VALUE=DATE:20241217
RRULE:FREQ=YEARLY;INTERVAL=1
END:VEVENT
END:VCALENDAR
