BEGIN:VCALENDAR
VERSION:2.0
PRODID:-//InvisionCommunity Events 5.0.18//EN
METHOD:PUBLISH
CALSCALE:GREGORIAN
REFRESH-INTERVAL:PT15M
X-PUBLISHED-TTL:PT15M
X-WR-CALNAME:RMWorkCalendar
NAME:RMWorkCalendar
BEGIN:VTIMEZONE
TZID:Europe/London
TZURL:https://tzurl.org/zoneinfo/Europe/London
X-LIC-LOCATION:Europe/London
BEGIN:DAYLIGHT
TZOFFSETFROM:+0000
TZOFFSETTO:+0100
TZNAME:BST
DTSTART:20260329T020000Z
RRULE:FREQ=YEARLY;BYMONTH=3;BYDAY=-1SU
END:DAYLIGHT
BEGIN:STANDARD
TZOFFSETFROM:+0100
TZOFFSETTO:+0000
TZNAME:GMT
DTSTART:20261025T020000Z
RRULE:FREQ=YEARLY;BYMONTH=10;BYDAY=-1SU
END:STANDARD
END:VTIMEZONE
BEGIN:VEVENT
SUMMARY:Wishing Wells challenge in color-me-club
DTSTAMP:20260302T202246Z
SEQUENCE:0
UID:665-5-c3fe8195a3dde498d013e477e2142422@aalbc.com
ORGANIZER;CN="richardmurray":noreply@aalbc.com
DESCRIPTION:\n	participate for prizes by march 31st 2026 but open foreve
	r to challenge oneself\n\n\n\n	https://www.deviantart.com/hddeviant/journa
	l/Wishing-Wells-1286745083\n\n\n\n	artistic example\n\n\n\n	https://www.de
	viantart.com/hddeviant/art/Preto-Liberdade-Wishing-Well-1304264153\n\n\n\n
		 \n\n\n\n	\n\n	EMBED CODE\n\n	\n\n\n\n	 \n\n
DTSTART;VALUE=DATE:20260301
RRULE:FREQ=YEARLY;INTERVAL=1
END:VEVENT
END:VCALENDAR
