BEGIN:VCALENDAR
VERSION:2.0
PRODID:-//InvisionCommunity Events 5.0.18//EN
METHOD:PUBLISH
CALSCALE:GREGORIAN
REFRESH-INTERVAL:PT15M
X-PUBLISHED-TTL:PT15M
X-WR-CALNAME:RMCommunityCalendar
NAME:RMCommunityCalendar
BEGIN:VTIMEZONE
TZID:Europe/London
TZURL:https://tzurl.org/zoneinfo/Europe/London
X-LIC-LOCATION:Europe/London
BEGIN:DAYLIGHT
TZOFFSETFROM:+0000
TZOFFSETTO:+0100
TZNAME:BST
DTSTART:20260329T020000Z
RRULE:FREQ=YEARLY;BYMONTH=3;BYDAY=-1SU
END:DAYLIGHT
BEGIN:STANDARD
TZOFFSETFROM:+0100
TZOFFSETTO:+0000
TZNAME:GMT
DTSTART:20261025T020000Z
RRULE:FREQ=YEARLY;BYMONTH=10;BYDAY=-1SU
END:STANDARD
END:VTIMEZONE
BEGIN:VEVENT
SUMMARY:Tubi x Blacklist horror initiative 2026 challenge final day
DTSTAMP:20260304T005327Z
SEQUENCE:0
UID:668-7-c3fe8195a3dde498d013e477e2142422@aalbc.com
ORGANIZER;CN="richardmurray":noreply@aalbc.com
DESCRIPTION:\n	Submissions are now open for our new horror initiative w
	ith Tubi! [ https://blcklst.com/programs/tubi-black-list-horror-initiativ
	e?mc_cid=2d68c3555c&amp\;mc_eid=e0b642193c ] \n\n\n\n	 \n\n\n\n	Emerging
	 and established writers with a feature script in the horror genre are e
	ncouraged to submit their project for further consideration in the Tubi x
	 Black List Horror Initiative. Submissions will remain open until June 30\
	, 2026 – write that deadline down now and get to work\, writers!\n\n\n\
	n	 \n\n\n\n	Tubi intends to produce and distribute the selected script. T
	he Black List will executive produce the project and will be collaborating
	 closely with Tubi throughout the entirety of the program. Writers are wel
	come to upload new projects for consideration in this program.\n\n\n\n	 \
	n\n\n\n	Fee waivers are also available for submitting writers! 100 fee wa
	ivers will be distributed at the discretion of Tubi and The Black List thr
	oughout the submission window. Learn more about how to apply for a program
	-specific or general fee waiver at blcklst.com/help. [  https://help.blc
	klst.com/kb/en/?mc_cid=2d68c3555c&amp\;mc_eid=e0b642193c ] \n\n\n\n	\n\n
		We are so excited to expand our collaboration with Tubi with this incredi
	ble new initiative! If you have a horror script we strongly encourage you 
	to learn more here.\n\n\n\n	 \n\n\n\n	If any are interested in my style 
	check out my screenplay free to read online  [ https://www.kobo.com/eboo
	k/the-nyotenda ] and if you are interested and want to brainstorm I can ma
	ke a place in my discord or we can chat in aalbc or tumblr or deviantart:)
	 \n\n\n\n	 \n\n\n\n	If you are interested in other tales of mine consid
	er  [ https://www.deviantart.com/hddeviant/art/THE-PROMOTION-125533902
	8  ] which is part of my gallery of literature  [ https://www.devianta
	rt.com/hddeviant/gallery/81311721/my-tales-or-poetry  ] \n\n\n\n	 \n\n\
	n\n	FORUM POSTS\n\n\n\n	https://aalbc.com/tc/topic/12571-calling-all-black
	-writers/\n\n\n\n	https://aalbc.com/tc/topic/12572-what-is-a-horror-storye
	lement-you-will-like-to-see-that-you-havent-seen-before/\n\n\n\n	 \n\n\n\
	n	NOTICE TEXT\n\n\n\n	Calling all Black Writers!\n\n	I have a screenplay I
	 am working on already. I was planning for it to have another path but wit
	h this. the timing is perfect. Any black writers interested\, join me on a
	albc or wherever and lets discuss:) I will make a roundtable on my discord
	 if need be. \n\n	If you are interested in my style links to various pert
	inent works are in the page below. \n\n	https://aalbc.com/tc/events/event
	/668-tubi-x-blacklist-horror-initiative-2026-challenge-final-day/\n\n	#rma
	albc #aalbc #tubi #blacklist #horror #screenplay #richardmurray #kobo #kwl
	 #hddeviant #deviantart #richardmurrayhumblr #tumblr #black337\n\n\n\n	 \
	n\n\n\n	\n\n\n\n	 \n\n\n\n	#rmaalbc #aalbc #tubi #blacklist #horror #scre
	enplay #richardmurray #kobo #kwl #hddeviant #deviantart #richardmurrayhumb
	lr #tumblr \n\n	 \n\n
DTSTART;VALUE=DATE:20260630
RRULE:FREQ=YEARLY;INTERVAL=1
END:VEVENT
END:VCALENDAR
