BEGIN:VCALENDAR
VERSION:2.0
PRODID:-//InvisionCommunity Events 5.0.18//EN
METHOD:PUBLISH
CALSCALE:GREGORIAN
REFRESH-INTERVAL:PT15M
X-PUBLISHED-TTL:PT15M
X-WR-CALNAME:RMCommunityCalendar
NAME:RMCommunityCalendar
BEGIN:VTIMEZONE
TZID:Europe/London
TZURL:https://tzurl.org/zoneinfo/Europe/London
X-LIC-LOCATION:Europe/London
BEGIN:DAYLIGHT
TZOFFSETFROM:+0000
TZOFFSETTO:+0100
TZNAME:BST
DTSTART:20260329T020000Z
RRULE:FREQ=YEARLY;BYMONTH=3;BYDAY=-1SU
END:DAYLIGHT
BEGIN:STANDARD
TZOFFSETFROM:+0100
TZOFFSETTO:+0000
TZNAME:GMT
DTSTART:20261025T020000Z
RRULE:FREQ=YEARLY;BYMONTH=10;BYDAY=-1SU
END:STANDARD
END:VTIMEZONE
BEGIN:VEVENT
SUMMARY:A Trajectory of U.S. Immigration at the Intersection of Immi
	gration Policy and Rule of Law\, hosted by Joyce Williams of Armooh Wlliam
	s PLC
DTSTAMP:20260415T212844Z
SEQUENCE:0
UID:717-7-c3fe8195a3dde498d013e477e2142422@aalbc.com
ORGANIZER;CN="richardmurray":noreply@aalbc.com
DESCRIPTION:A Trajectory of U.S. Immigration at the Intersection of Immi
	gration Policy and Rule of Law\, hosted by Joyce Williams of Armooh Wlliam
	s PLCIn this episode of Brief Encounters\, host Joyce Williams is joined b
	y former Appellate Immigration Judge Andrea Sáenz and former Immigration 
	Judge Anam Rahman Petit for a timely conversation on U.S. immigration law 
	at the intersection of policy and the rule of law. Together\, they unpack 
	judicial independence\, detention and adjudication\, and the shifting boun
	daries of asylum—offering an insider’s view of how these legal framewo
	rks shape due process\, access to protection\, and the future of the immig
	ration system.IN AMENDMENTTwo immigration judges were recently fired after
	 dismissing deportation cases involving pro-Palestinian student advocates(
	https://lnkd.in/esQRdniJ) —part of a broader pattern raising questions a
	bout judicial independence in immigration courts.\n🎙️ In Brief Encoun
	ters\, Joyce Williams speaks with former judges Andrea Sáenz and Anam Rah
	man Petit about asylum\, detention\, and due process—and how policy pres
	sures shape outcomes.\n🎧 Listen wherever you get your podcasts.(https:/
	/lnkd.in/exBPN2G4) \nAndrea Sáenz + Anam Rahman Petit \n#ImmigrationLaw #
	RuleOfLaw #PublicPolicy\n\nAUDIO\nhttps://creators.spotify.com/pod/profile
	/dcbar/episodes/A-Trajectory-of-U-S--Immigration-at-the-Intersection-of-Im
	migration-Policy-and-Rule-of-Law-e3hljof/a-acj4jor\n\nLinked Referral\nhtt
	ps://www.linkedin.com/posts/joyce-williams071381_immigrationlaw-ruleoflaw-
	publicpolicy-activity-7450175380742811648-zckk?utm_source=share&amp\;utm_m
	edium=member_desktop&amp\;rcm=ACoAAC9jwHcBhMdyfurNH2JmdlAPjJgXHivmWR8EMBED
	&lt\;iframe src=\"https://creators.spotify.com/pod/profile/dcbar/embed/epi
	sodes/A-Trajectory-of-U-S--Immigration-at-the-Intersection-of-Immigration-
	Policy-and-Rule-of-Law-e3hljof/a-acj4jor\" height=\"102px\" width=\"400px\
	" frameborder=\"0\" scrolling=\"no\"&gt\;&lt\;/iframe&gt\;
DTSTART;VALUE=DATE:20260415
RRULE:FREQ=YEARLY;INTERVAL=1
END:VEVENT
END:VCALENDAR
