BEGIN:VCALENDAR
VERSION:2.0
PRODID:-//InvisionCommunity Events 5.0.18//EN
METHOD:PUBLISH
CALSCALE:GREGORIAN
REFRESH-INTERVAL:PT15M
X-PUBLISHED-TTL:PT15M
X-WR-CALNAME:RMWorkCalendar
NAME:RMWorkCalendar
BEGIN:VTIMEZONE
TZID:Europe/London
TZURL:https://tzurl.org/zoneinfo/Europe/London
X-LIC-LOCATION:Europe/London
BEGIN:DAYLIGHT
TZOFFSETFROM:+0000
TZOFFSETTO:+0100
TZNAME:BST
DTSTART:20260329T020000Z
RRULE:FREQ=YEARLY;BYMONTH=3;BYDAY=-1SU
END:DAYLIGHT
BEGIN:STANDARD
TZOFFSETFROM:+0100
TZOFFSETTO:+0000
TZNAME:GMT
DTSTART:20261025T020000Z
RRULE:FREQ=YEARLY;BYMONTH=10;BYDAY=-1SU
END:STANDARD
END:VTIMEZONE
BEGIN:VEVENT
SUMMARY:Deviantart Videomaker Examples
DTSTAMP:20260423T185036Z
SEQUENCE:0
UID:722-5-c3fe8195a3dde498d013e477e2142422@aalbc.com
ORGANIZER;CN="richardmurray":noreply@aalbc.com
DESCRIPTION:Deviantart Videomaker Exampleshttps://www.deviantart.com/hdd
	eviant/art/Deviantart-Videomaker-Examples-1325065109?file=14&lt\;br&gt\;&l
	t\;span&gt\;EMBED CODE&lt\;/span&gt\;&lt\;br&gt\;&lt\;a href=\"https://www
	.deviantart.com/hddeviant/art/Deviantart-Videomaker-Examples-1325065109\" 
	target=\"_blank\"&gt\;&lt\;img src=\"https://images-wixmp-ed30a86b8c4ca887
	773594c2.wixmp.com/f/5d27c5e0-a455-49cc-8b4e-e651b7aba5e4/dlwwqs5-9b307836
	-89ff-48e9-a5c5-c27855661bbf.png/v1/fit/w_300\,h_540\,q_70\,strp/deviantar
	t_videomaker_examples_by_hddeviant_dlwwqs5-300w.jpg?token=eyJ0eXAiOiJKV1Qi
	LCJhbGciOiJIUzI1NiJ9.eyJzdWIiOiJ1cm46YXBwOjdlMGQxODg5ODIyNjQzNzNhNWYwZDQxN
	WVhMGQyNmUwIiwiaXNzIjoidXJuOmFwcDo3ZTBkMTg4OTgyMjY0MzczYTVmMGQ0MTVlYTBkMjZ
	lMCIsIm9iaiI6W1t7ImhlaWdodCI6Ijw9NTQwIiwicGF0aCI6Ii9mLzVkMjdjNWUwLWE0NTUtN
	DljYy04YjRlLWU2NTFiN2FiYTVlNC9kbHd3cXM1LTliMzA3ODM2LTg5ZmYtNDhlOS1hNWM1LWM
	yNzg1NTY2MWJiZi5wbmciLCJ3aWR0aCI6Ijw9OTQ1In1dXSwiYXVkIjpbInVybjpzZXJ2aWNlO
	mltYWdlLm9wZXJhdGlvbnMiXX0.ghN5fehlDCDkyP3t25VIwkdLLAB5fpKFbFU6p45yrjI\" h
	eight=\"171\" width=\"300\"&gt\;&lt\;/img&gt\;&lt\;/a&gt\;
DTSTART;VALUE=DATE:20260423
RRULE:FREQ=YEARLY;INTERVAL=1
END:VEVENT
END:VCALENDAR
